0.2000000000
0.0000000000
0.0000000000
-0.2000000000
485000.1000000000
6745999.9000000004
