!table
!version 300
!charset Neutral

Definition Table
  File "Aerial_2011_Sht4.ecw"
  Type "RASTER"
  (478000,6717500) (0,0) Label "Pt 1",
  (515500,6717500) (150000,0) Label "Pt 2",
  (478000,6705000) (0,50000) Label "Pt 3"
  CoordSys Earth Projection 8, 74, "m", -135, 0, 0.9996, 500000, 0
